BEGIN:VCALENDAR
VERSION:2.0
PRODID:-//AAF Roanoke - ECPv6.15.20//NONSGML v1.0//EN
CALSCALE:GREGORIAN
METHOD:PUBLISH
X-WR-CALNAME:AAF Roanoke
X-ORIGINAL-URL:https://aafroanoke.org
X-WR-CALDESC:Events for AAF Roanoke
REFRESH-INTERVAL;VALUE=DURATION:PT1H
X-Robots-Tag:noindex
X-PUBLISHED-TTL:PT1H
BEGIN:VTIMEZONE
TZID:America/New_York
BEGIN:DAYLIGHT
TZOFFSETFROM:-0500
TZOFFSETTO:-0400
TZNAME:EDT
DTSTART:20250309T070000
END:DAYLIGHT
BEGIN:STANDARD
TZOFFSETFROM:-0400
TZOFFSETTO:-0500
TZNAME:EST
DTSTART:20251102T060000
END:STANDARD
BEGIN:DAYLIGHT
TZOFFSETFROM:-0500
TZOFFSETTO:-0400
TZNAME:EDT
DTSTART:20260308T070000
END:DAYLIGHT
BEGIN:STANDARD
TZOFFSETFROM:-0400
TZOFFSETTO:-0500
TZNAME:EST
DTSTART:20261101T060000
END:STANDARD
BEGIN:DAYLIGHT
TZOFFSETFROM:-0500
TZOFFSETTO:-0400
TZNAME:EDT
DTSTART:20270314T070000
END:DAYLIGHT
BEGIN:STANDARD
TZOFFSETFROM:-0400
TZOFFSETTO:-0500
TZNAME:EST
DTSTART:20271107T060000
END:STANDARD
END:VTIMEZONE
BEGIN:VEVENT
DTSTART;TZID=America/New_York:20260227T080000
DTEND;TZID=America/New_York:20260312T170000
DTSTAMP:20260422T125356
CREATED:20260222T175351Z
LAST-MODIFIED:20260222T175352Z
UID:2493-1772179200-1773334800@aafroanoke.org
SUMMARY:Order Award Duplicates or Forward Silvers
DESCRIPTION:Silver Award Forwarding\n\n\n\nSilver ADDY winners can forward entries to District 3 to be judged again (Golds are automatically forwarded)\, keeping the momentum of your winning entry active in the second round of the three-tiered American Advertising Awards. Silver forwarding is $110 per entry and there is no limit to the number of Silver awards that can be forwarded. All Silver forwards and payment must be received by Wednesday\, March 12 at 5 p.m. \n\n\n\n\n\n\nSelect Awards to Forward\n\n\n\n\nDuplicate Awards\n\n\n\nAll award winners can also celebrate the wins with extra trophies for their creative teams or clients with a duplicate award. Duplicate award prices vary by award type\, and you can order and customize as many trophies as you wish. All duplicate award information and payment must be received by Wednesday\, March 12 at 5 p.m. \n\n\n\n\n\n\nOrder Duplicates
URL:https://aafroanoke.org/event/order-award-duplicates-or-forward-silvers/
LOCATION:Virginia
CATEGORIES:AAF
ATTACH;FMTTYPE=image/jpeg:https://aafroanoke.org/wp-content/uploads/2024/01/award-trophy.jpg
END:VEVENT
END:VCALENDAR