BEGIN:VCALENDAR
VERSION:2.0
PRODID:-//AAF Roanoke - ECPv6.15.20//NONSGML v1.0//EN
CALSCALE:GREGORIAN
METHOD:PUBLISH
X-WR-CALNAME:AAF Roanoke
X-ORIGINAL-URL:https://aafroanoke.org
X-WR-CALDESC:Events for AAF Roanoke
REFRESH-INTERVAL;VALUE=DURATION:PT1H
X-Robots-Tag:noindex
X-PUBLISHED-TTL:PT1H
BEGIN:VTIMEZONE
TZID:America/New_York
BEGIN:DAYLIGHT
TZOFFSETFROM:-0500
TZOFFSETTO:-0400
TZNAME:EDT
DTSTART:20240310T070000
END:DAYLIGHT
BEGIN:STANDARD
TZOFFSETFROM:-0400
TZOFFSETTO:-0500
TZNAME:EST
DTSTART:20241103T060000
END:STANDARD
BEGIN:DAYLIGHT
TZOFFSETFROM:-0500
TZOFFSETTO:-0400
TZNAME:EDT
DTSTART:20250309T070000
END:DAYLIGHT
BEGIN:STANDARD
TZOFFSETFROM:-0400
TZOFFSETTO:-0500
TZNAME:EST
DTSTART:20251102T060000
END:STANDARD
BEGIN:DAYLIGHT
TZOFFSETFROM:-0500
TZOFFSETTO:-0400
TZNAME:EDT
DTSTART:20260308T070000
END:DAYLIGHT
BEGIN:STANDARD
TZOFFSETFROM:-0400
TZOFFSETTO:-0500
TZNAME:EST
DTSTART:20261101T060000
END:STANDARD
END:VTIMEZONE
BEGIN:VEVENT
DTSTART;TZID=America/New_York:20251211T173000
DTEND;TZID=America/New_York:20251211T193000
DTSTAMP:20260422T181004
CREATED:20251110T230738Z
LAST-MODIFIED:20251110T230738Z
UID:2353-1765474200-1765481400@aafroanoke.org
SUMMARY:Jingle & Mingle: AAF Holiday Bash
DESCRIPTION:Jingle & Mingle: AAF Holiday Bash\n\n\n\nIt’s the most wonderful time of the year — and we’re celebrating AAF Roanoke–style! Join us on Thursday\, December 11\, 2025\, from 5:30 to 7:30 p.m. for a festive evening of brews\, bites\, and bright company at Twisted Track Brewpub. \n\n\n\nEnjoy holiday treats\, great conversation\, and our fan-favorite Ugly Sweater Contest (so don’t hold back — the tackier\, the better!). \n\n\n\nWhether you’ve been naughty\, nice\, or just busy creating all year long\, this is your chance to relax\, reconnect\, and raise a glass to another successful year in the ad world. \n\n\n\nRSVP below and let’s Jingle & Mingle! \n\n\n\n \n\n\n\n\n\n\n\n\n                \n                        Name(Required)\n                            \n                            \n                                                    \n                                                    First\n                                                \n                            \n                            \n                                                    \n                                                    Last\n                                                \n                            \n                        Email(Required)\n                            \n                        CompanyTicket/RSVP(Required)Ad 2 Member – FREEAAF Member – FREEStudent – FREENon-Member – FREETotal
URL:https://aafroanoke.org/event/jingle-mingle-aaf-holiday-bash/
LOCATION:Twisted Track Brewpub\, 523 Shenandoah Ave NW\, Roanoke\, 24016
CATEGORIES:AAF
ATTACH;FMTTYPE=image/jpeg:https://aafroanoke.org/wp-content/uploads/2025/11/HolidayParty25.jpg
END:VEVENT
END:VCALENDAR