BEGIN:VCALENDAR
VERSION:2.0
PRODID:-//AAF Roanoke - ECPv6.15.20//NONSGML v1.0//EN
CALSCALE:GREGORIAN
METHOD:PUBLISH
X-WR-CALNAME:AAF Roanoke
X-ORIGINAL-URL:https://aafroanoke.org
X-WR-CALDESC:Events for AAF Roanoke
REFRESH-INTERVAL;VALUE=DURATION:PT1H
X-Robots-Tag:noindex
X-PUBLISHED-TTL:PT1H
BEGIN:VTIMEZONE
TZID:America/New_York
BEGIN:DAYLIGHT
TZOFFSETFROM:-0500
TZOFFSETTO:-0400
TZNAME:EDT
DTSTART:20240310T070000
END:DAYLIGHT
BEGIN:STANDARD
TZOFFSETFROM:-0400
TZOFFSETTO:-0500
TZNAME:EST
DTSTART:20241103T060000
END:STANDARD
BEGIN:DAYLIGHT
TZOFFSETFROM:-0500
TZOFFSETTO:-0400
TZNAME:EDT
DTSTART:20250309T070000
END:DAYLIGHT
BEGIN:STANDARD
TZOFFSETFROM:-0400
TZOFFSETTO:-0500
TZNAME:EST
DTSTART:20251102T060000
END:STANDARD
BEGIN:DAYLIGHT
TZOFFSETFROM:-0500
TZOFFSETTO:-0400
TZNAME:EDT
DTSTART:20260308T070000
END:DAYLIGHT
BEGIN:STANDARD
TZOFFSETFROM:-0400
TZOFFSETTO:-0500
TZNAME:EST
DTSTART:20261101T060000
END:STANDARD
END:VTIMEZONE
BEGIN:VEVENT
DTSTART;TZID=America/New_York:20251113T073000
DTEND;TZID=America/New_York:20251113T090000
DTSTAMP:20260422T195926
CREATED:20251010T023755Z
LAST-MODIFIED:20251105T150530Z
UID:2273-1763019000-1763024400@aafroanoke.org
SUMMARY:Morning Meet Up
DESCRIPTION:Morning Meet Up\n\n\n\nJoin AAF Roanoke for a casual morning of networking\, coffee\, and community connection at Albemarle Bakery & Coffee House (203 Albemarle Ave SW\, Roanoke\, VA 24016) on Thursday\, November 13\, from 7:30–9:00 AM. \n\n\n\nStart your day with coffee and conversation\, meet fellow advertising and creative professionals\, and the first 5 folks to arrive will enjoy coffee on us! \n\n\n\nWe’ll also be collecting donations to support Local Office on Aging—your generosity helps make a difference in our community. \n\n\n\nStop by\, say hello\, and make new connections before you head into the rest of your day! \n\n\n\nDonation Needed:\n\n\n\nHelp support the Local Office on Aging by bringing any of the following items: \n\n\n\n\nToiletries\n\n\n\nIncontinence undergarments\n\n\n\nEnsure\n\n\n\nCanned meats (tuna\, chicken)\n\n\n\nHearty soups and stews\n\n\n\nIndividual packs of peanut butter crackers\n\n\n\nMacaroni & cheese cups\n\n\n\nMashed potato cups\n\n\n\n\nWe can’t wait to kick off the morning with great coffee and conversation.Let us know you’re coming by completing the form below! \n\n\n\n\n                \n                        Name(Required)\n                            \n                            \n                                                    \n                                                    First\n                                                \n                            \n                            \n                                                    \n                                                    Last\n                                                \n                            \n                        Email(Required)\n                            \n                        CompanyTicket/RSVP(Required)Ad 2 Member – FREEAAF Member – FREEStudent – FREENon-Member – FREETotal
URL:https://aafroanoke.org/event/morning-meet-up/
LOCATION:Albemarle Bakery & Coffee House\, 203 Albemarle Ave SW\, Virginia\, United States
CATEGORIES:AAF
ATTACH;FMTTYPE=image/jpeg:https://aafroanoke.org/wp-content/uploads/2025/10/Morning-Meetup_Nov_1920x1005.jpg
END:VEVENT
END:VCALENDAR