BEGIN:VCALENDAR
VERSION:2.0
PRODID:-//AAF Roanoke - ECPv6.15.20//NONSGML v1.0//EN
CALSCALE:GREGORIAN
METHOD:PUBLISH
X-ORIGINAL-URL:https://aafroanoke.org
X-WR-CALDESC:Events for AAF Roanoke
REFRESH-INTERVAL;VALUE=DURATION:PT1H
X-Robots-Tag:noindex
X-PUBLISHED-TTL:PT1H
BEGIN:VTIMEZONE
TZID:America/New_York
BEGIN:DAYLIGHT
TZOFFSETFROM:-0500
TZOFFSETTO:-0400
TZNAME:EDT
DTSTART:20240310T070000
END:DAYLIGHT
BEGIN:STANDARD
TZOFFSETFROM:-0400
TZOFFSETTO:-0500
TZNAME:EST
DTSTART:20241103T060000
END:STANDARD
BEGIN:DAYLIGHT
TZOFFSETFROM:-0500
TZOFFSETTO:-0400
TZNAME:EDT
DTSTART:20250309T070000
END:DAYLIGHT
BEGIN:STANDARD
TZOFFSETFROM:-0400
TZOFFSETTO:-0500
TZNAME:EST
DTSTART:20251102T060000
END:STANDARD
BEGIN:DAYLIGHT
TZOFFSETFROM:-0500
TZOFFSETTO:-0400
TZNAME:EDT
DTSTART:20260308T070000
END:DAYLIGHT
BEGIN:STANDARD
TZOFFSETFROM:-0400
TZOFFSETTO:-0500
TZNAME:EST
DTSTART:20261101T060000
END:STANDARD
END:VTIMEZONE
BEGIN:VEVENT
DTSTART;TZID=America/New_York:20251029T000000
DTEND;TZID=America/New_York:20251031T235959
DTSTAMP:20260422T200131
CREATED:20250911T134848Z
LAST-MODIFIED:20250911T134850Z
UID:2216-1761696000-1761955199@aafroanoke.org
SUMMARY:Roanoke Ghost Tour
DESCRIPTION:Journey through the uncanny history of the Roanoke Valley on a walking ghost tour. Three tours nightly\, Oct. 29-31.
URL:https://aafroanoke.org/event/roanoke-ghost-tour/
LOCATION:Virginia
ATTACH;FMTTYPE=image/jpeg:https://aafroanoke.org/wp-content/uploads/2025/09/ghost-tour.jpg
END:VEVENT
END:VCALENDAR