BEGIN:VCALENDAR
VERSION:2.0
PRODID:-//AAF Roanoke - ECPv6.15.20//NONSGML v1.0//EN
CALSCALE:GREGORIAN
METHOD:PUBLISH
X-WR-CALNAME:AAF Roanoke
X-ORIGINAL-URL:https://aafroanoke.org
X-WR-CALDESC:Events for AAF Roanoke
REFRESH-INTERVAL;VALUE=DURATION:PT1H
X-Robots-Tag:noindex
X-PUBLISHED-TTL:PT1H
BEGIN:VTIMEZONE
TZID:America/New_York
BEGIN:DAYLIGHT
TZOFFSETFROM:-0500
TZOFFSETTO:-0400
TZNAME:EDT
DTSTART:20240310T070000
END:DAYLIGHT
BEGIN:STANDARD
TZOFFSETFROM:-0400
TZOFFSETTO:-0500
TZNAME:EST
DTSTART:20241103T060000
END:STANDARD
BEGIN:DAYLIGHT
TZOFFSETFROM:-0500
TZOFFSETTO:-0400
TZNAME:EDT
DTSTART:20250309T070000
END:DAYLIGHT
BEGIN:STANDARD
TZOFFSETFROM:-0400
TZOFFSETTO:-0500
TZNAME:EST
DTSTART:20251102T060000
END:STANDARD
BEGIN:DAYLIGHT
TZOFFSETFROM:-0500
TZOFFSETTO:-0400
TZNAME:EDT
DTSTART:20260308T070000
END:DAYLIGHT
BEGIN:STANDARD
TZOFFSETFROM:-0400
TZOFFSETTO:-0500
TZNAME:EST
DTSTART:20261101T060000
END:STANDARD
END:VTIMEZONE
BEGIN:VEVENT
DTSTART;TZID=America/New_York:20250819T180000
DTEND;TZID=America/New_York:20250819T203000
DTSTAMP:20260423T015308
CREATED:20250729T171355Z
LAST-MODIFIED:20250729T175428Z
UID:2088-1755626400-1755635400@aafroanoke.org
SUMMARY:Bingo on Tap
DESCRIPTION:Bingo on Tap\n\n\n\nKick off the new AAF Roanoke year with us at Big Lick Brewing! Enjoy a night of networking\, music\, and fun as we bring you Music Bingo with plenty of prizes up for grabs. Test your music knowledge\, sip on a cold drink\, and connect with fellow advertising and marketing professionals in the area. \n\n\n\nYou’ll also get the chance to meet the AAF Roanoke Board\, learn more about what’s coming this year\, and grow your network in a laid-back\, fun setting. \n\n\n\nMusic Bingo\, networking\, and craft brews… what more could you want? \n\n\n\nEvent Details\n\n\n\n\nDate: Tuesday\, August 19\, 2025\n\n\n\nTime: 6:00 PM – 8:30 PM (Music Bingo starts at 6:30 PM)\n\n\n\nLocation: Big Lick Brewing\, 409 Salem Ave SW\, Roanoke\, VA 24016\n\n\n\n\nEveryone is WELCOMED! Let us know you’re coming. Register below! \n\n\n\n\n                \n                        Name(Required)\n                            \n                            \n                                                    \n                                                    First\n                                                \n                            \n                            \n                                                    \n                                                    Last\n                                                \n                            \n                        Email(Required)\n                            \n                        CompanyTicket/RSVP(Required)Ad 2 Member – FREEAAF Member – FREEStudent – FREENon-Member – FREETotal
URL:https://aafroanoke.org/event/bingo-on-tap/
LOCATION:Big Lick Brewing Company\, 409 Salem Ave SW\,\, Roanoke\, Virginia\, 24016
CATEGORIES:AAF
ATTACH;FMTTYPE=image/jpeg:https://aafroanoke.org/wp-content/uploads/2025/07/BingoOnTap_1920x1005.jpg
END:VEVENT
END:VCALENDAR