BEGIN:VCALENDAR
VERSION:2.0
PRODID:-//AAF Roanoke - ECPv6.15.20//NONSGML v1.0//EN
CALSCALE:GREGORIAN
METHOD:PUBLISH
X-ORIGINAL-URL:https://aafroanoke.org
X-WR-CALDESC:Events for AAF Roanoke
REFRESH-INTERVAL;VALUE=DURATION:PT1H
X-Robots-Tag:noindex
X-PUBLISHED-TTL:PT1H
BEGIN:VTIMEZONE
TZID:America/New_York
BEGIN:DAYLIGHT
TZOFFSETFROM:-0500
TZOFFSETTO:-0400
TZNAME:EDT
DTSTART:20240310T070000
END:DAYLIGHT
BEGIN:STANDARD
TZOFFSETFROM:-0400
TZOFFSETTO:-0500
TZNAME:EST
DTSTART:20241103T060000
END:STANDARD
BEGIN:DAYLIGHT
TZOFFSETFROM:-0500
TZOFFSETTO:-0400
TZNAME:EDT
DTSTART:20250309T070000
END:DAYLIGHT
BEGIN:STANDARD
TZOFFSETFROM:-0400
TZOFFSETTO:-0500
TZNAME:EST
DTSTART:20251102T060000
END:STANDARD
BEGIN:DAYLIGHT
TZOFFSETFROM:-0500
TZOFFSETTO:-0400
TZNAME:EDT
DTSTART:20260308T070000
END:DAYLIGHT
BEGIN:STANDARD
TZOFFSETFROM:-0400
TZOFFSETTO:-0500
TZNAME:EST
DTSTART:20261101T060000
END:STANDARD
END:VTIMEZONE
BEGIN:VEVENT
DTSTART;TZID=America/New_York:20250605T183000
DTEND;TZID=America/New_York:20250605T210000
DTSTAMP:20260423T052443
CREATED:20250514T185654Z
LAST-MODIFIED:20250514T185656Z
UID:2037-1749148200-1749157200@aafroanoke.org
SUMMARY:Ballpark Bash
DESCRIPTION:Ballpark Bash\n\n\n\nJoin us for a summer evening of baseball\, brews\, and great company at Ballpark Bash\, our group outing to see the Salem Red Sox! \n\n\n\nWe’ve secured spots in the Drink Rails section and a special discounted ticket rate just for our crew. That means awesome views\, plenty of space to mingle\, and easy access to your favorite ballpark bites and beverages. It’s the perfect way to connect with familiar and new faces\, unwind after work\, and root for the home team. \n\n\n\n \n\n\n\nWhat to Expect\n\n\n\n\nReserved seating in the Drink Rails area\n\n\n\nNetworking and fun with the AAF Roanoke crew\n\n\n\nClassic ballpark food + drinks available for purchase\n\n\n\nA relaxed and welcoming atmosphere for all\n\n\n\n\nWhen: Thursday\, June 5\, starting at 6:35 PM \n\n\n\nWhere: Carilion Clinic Field at Salem Memorial Ballpark (1008 Texas St\, Salem\, VA 24153) \n\n\n\nCost: $10.91/ticket \n\n\n\n⚾ Don’t miss this chance to mix business with a little ballgame fun. Whether you’re a die-hard fan or just in it for the snacks and socializing\, we’d love to see you there! \n\n\n\n\nReserve Your Seat Now\n\n\n\nTickets are limited\, so grab yours at our special group rate and join us at the ballpark:👉 Get Your Ticket Here
URL:https://aafroanoke.org/event/baseball-bash/
LOCATION:Carilion Clinic Field at Salem Memorial Ballpark\, 1008 Texas St\, Salem\, VA 24153\, Salem\, Virginia\, 24153\, United States
CATEGORIES:AAF
ATTACH;FMTTYPE=image/jpeg:https://aafroanoke.org/wp-content/uploads/2025/05/White-Red-Modern-Baseball-Match-Instagram-Post-Presentation.jpg
END:VEVENT
END:VCALENDAR